BEGIN:VCALENDAR
VERSION:2.0
PRODID:-//Sabre//Sabre VObject 4.5.7//EN
CALSCALE:GREGORIAN
BEGIN:VEVENT
UID:sabre-vobject-d144aeda-bfcb-41ee-9056-3eb12bf67787
DTSTAMP:20260424T143808Z
SUMMARY:Technical Commission Meeting
DESCRIPTION:Monthly Technical Commission (TEC) meeting at the Vadnais Heigh
 ts City Hall.&nbsp\;\n\nMeeting agenda and packet will be posted by the Fr
 iday prior to the event.&nbsp\;Click here&nbsp\;for past meeting materials
 .&nbsp\;\n
X-ALT-DESC:FMTTYPE=text/html:<!DOCTYPE HTML PUBLIC "-//W3C//DTD HTML 3.2//E
 N"><HTML><p>Monthly Technical Commission (TEC) meeting at the Vadnais Heig
 hts City Hall.&nbsp\;</p>\n\n<p>Meeting agenda and packet will be posted b
 y the Friday prior to the event.&nbsp\;<a href="https://vlawmo-staging.hdr
 stratcommtest.com/index.php?cID=245">Click here</a>&nbsp\;for past meeting
  materials.&nbsp\;</p>\n</HTML>
CREATED;TZID=America/New_York:20251229T111423
URL;VALUE=URI:https://vlawmo.org/events/all-events/technical-commission-mee
 ting-23
DTSTART;TZID=America/New_York:20260513T081500
DTEND;TZID=America/New_York:20260513T093000
SEQUENCE:0
END:VEVENT
END:VCALENDAR
