BEGIN:VCALENDAR
VERSION:2.0
PRODID:-//Sabre//Sabre VObject 4.5.7//EN
CALSCALE:GREGORIAN
BEGIN:VEVENT
UID:sabre-vobject-4cd56f78-83b4-4717-aa2d-56be16c01ab3
DTSTAMP:20260421T122026Z
SUMMARY:Vadnais Heights Ice Cream Social
DESCRIPTION:This community event hosted by the City of Vadnais Heights incl
 udes free ice cream\, live music and activities for all ages. VLAWMO will 
 be an exhibitor - stop by for water-themed games\, resources\, and more.&n
 bsp\;\n\nLearn more on the City of Vadnais Heights website.&nbsp\;\n
X-ALT-DESC:FMTTYPE=text/html:<!DOCTYPE HTML PUBLIC "-//W3C//DTD HTML 3.2//E
 N"><HTML><p>This community event hosted by the City of Vadnais Heights inc
 ludes free ice cream\, live music and activities for all ages. VLAWMO will
  be an exhibitor - stop by for water-themed games\, resources\, and more.&
 nbsp\;</p>\n\n<p>Learn more on the <a href="https://www.cityvadnaisheights
 .com/Calendar.aspx?EID=1800&amp\;month=6&amp\;year=2026&amp\;day=10&amp\;c
 alType=0">City of Vadnais Heights website</a>.&nbsp\;</p>\n</HTML>
CREATED;TZID=America/New_York:20260420T162126
URL;VALUE=URI:https://vlawmo.org/events/all-events/vadnais-heights-ice-crea
 m-social-1
DTSTART;TZID=America/New_York:20260610T180000
DTEND;TZID=America/New_York:20260610T200000
SEQUENCE:0
END:VEVENT
END:VCALENDAR
